BEGIN:VCALENDAR
VERSION:2.0
PRODID: -//CMS 5.0 //NONSGML //DE
BEGIN:VEVENT
SUMMARY:Redaktionsschluss für Gemeindebriefe
DESCRIPTION:Kategorie: Alle\n\n\n\nKategorie: Alle\n\n\n\nhttps://bezirk
 -hamburg-sued.nak-nordost.de/db/485636
UID:485636@bezirk-hamburg-sued.nak-nordost.de
LOCATION:
CATEGORIES:Kirchenbezirk Hamburg-Süd
X-ORGANIZER:
STATUS:CONFIRMED
CLASS:PUBLIC
DTSTART:20260423T150000Z
DTEND:20260423T160000Z
DTSTAMP:20260422T140539Z
CREATED:20250301T164032Z
LAST-MODIFIED:20250301T164032Z
BEGIN:VALARM
UID:57C9D506-3E54-11F1-997F-685068372A87
TRIGGER:-PT60M
ACTION:DISPLAY
DESCRIPTION:SUMMARY:Redaktionsschluss für Gemeindebriefe
END:VALARM
END:VEVENT
END:VCALENDAR
